BEGIN:VCALENDAR
VERSION:2.0
PRODID:-//wp-events-plugin.com//6.4.8//EN
TZID:Europe/Berlin
X-WR-TIMEZONE:Europe/Berlin
BEGIN:VEVENT
UID:395@aachener-zauberschule.de
DTSTART;TZID=Europe/Berlin;VALUE=DATE:20221105
DTEND;TZID=Europe/Berlin;VALUE=DATE:20221107
DTSTAMP:20221020T123232Z
URL:https://aachener-zauberschule.de/events/wochenend-grundkurs/
SUMMARY:Wochenend-Grundkurs
DESCRIPTION:Unterrichtsablauf:\n\nAm Samstag:\n\n         1. Thema: Grundz
 üge\n\n         Schüler und Lehrer lernen sich kennen\n         Bei Vork
 enntnissen werden diese abgefragt\n         Die drei Grundregeln\n        
  das Kartenmemorie\n\n\n\n\n         2. Thema: Seile\n\n         Zerschnei
 den\, wieder herstellen\n         ein kurzes\, mittleres und langes Seil v
 erwandeln sich in drei gleich lange Seile\n\n\n\nAm Sonntag:\n\n         3
 . Thema: Karten\n\n         Skat (32 Karten) und Pokerdeck (52 Karten) ken
 nen lernen\n         Grundtechniken (Mischmethoden\, Abheben\, Ausstreifen
 )\n         Erste Forciermethoden\n         Routine "Ihre Karte heißt!" i
 nbegriffen.\n\n\n\n\n         4. Thema Becherspiel\n\n         3 Bälle un
 d 3 Becher\nDie Bälle wandern durch die Becherböden hindurch.\n&nbsp\;\n
 \n\n         5. Thema: Präsentation\n\n         Erstellung eines ersten e
 igenen Programms\n         Vorführen des Programm\n\n\n\n&nbsp\;\nKomplet
 tpreis inklusive Materialien\, Getränke und Snacks:\n€ 250\,-\n&nbsp\;\
 n\nAm Ende gibt es ein Zauberdiplom zur erfolgreichen Teilnahme am Basisku
 rs.\n\nInteressiert?
CATEGORIES:Basiskurse
LOCATION:Dieser Kurs fällt leider aus ...\, Marschiertor\, Aachen\, Deutsc
 hland
GEO:50.768168;6.086933
X-APPLE-STRUCTURED-LOCATION;VALUE=URI;X-ADDRESS=Marschiertor\, Aachen\, Deu
 tschland;X-APPLE-RADIUS=100;X-TITLE=Dieser Kurs fällt leider aus ...:geo:
 50.768168,6.086933
END:VEVENT
BEGIN:VTIMEZONE
TZID:Europe/Berlin
X-LIC-LOCATION:Europe/Berlin
BEGIN:STANDARD
DTSTART:20221030T020000
TZOFFSETFROM:+0200
TZOFFSETTO:+0100
TZNAME:CET
END:STANDARD
END:VTIMEZONE
END:VCALENDAR