BEGIN:VCALENDAR
VERSION:2.0
PRODID:-//wp-events-plugin.com//6.4.8//EN
TZID:Europe/Berlin
X-WR-TIMEZONE:Europe/Berlin
BEGIN:VEVENT
UID:403@aachener-zauberschule.de
DTSTART;TZID=Europe/Berlin:20230205T140000
DTEND;TZID=Europe/Berlin:20230205T153000
DTSTAMP:20230129T174404Z
URL:https://aachener-zauberschule.de/events/schnupperkurs-gruppe-2-wuersel
 en-3/
SUMMARY:Schnupperkurs Gruppe 2 (Würselen)
DESCRIPTION:Der Austausch unter&nbsp\;Gleichgesinnten&nbsp\;steht hier im V
 ordergrund.\nFür Jugendliche ab der 5. Schulklasse&nbsp\;ist der SCHNUPPE
 RKURS&nbsp\;bestens geeignet\, um zu überprüfen\, ob&nbsp\;kleine&nbsp\;
 Bibi Blockbergs&nbsp\;oder&nbsp\;Harry Potter in ihnen stecken.\n\nIn den 
 ersten 45 Minuten wird Ihr Kind anderen „Zauberlehrlingen“ beim Zauber
 n zuschauen und assistieren dürfen um diese so kennen zulernen. Anschlie
 ßend\, in den zweiten 45 Minuten\, werden 1-2 neue Zauberkunststücke/Gri
 ffe gezeigt und erklärt.\n\nIn den letzten 45 Minuten zeigt jedes Kind ei
 n Zauberkunststück auf der Bühne.\n\nDas nötige Material\, sowie Geträ
 nke\, werden den Jugendlichen zur freien Verfügung gestellt.\nVorkenntnis
 se sind nicht nötig!
CATEGORIES:schnuppern
LOCATION:Aachener Zauberschule in Würselen\, Neuhauser Str. 82\, Würselen
 \, 52146\, Deutschland
GEO:50.81876;6.127
X-APPLE-STRUCTURED-LOCATION;VALUE=URI;X-ADDRESS=Neuhauser Str. 82\, Würsel
 en\, 52146\, Deutschland;X-APPLE-RADIUS=100;X-TITLE=Aachener Zauberschule 
 in Würselen:geo:50.81876,6.127
END:VEVENT
BEGIN:VTIMEZONE
TZID:Europe/Berlin
X-LIC-LOCATION:Europe/Berlin
BEGIN:STANDARD
DTSTART:20221030T020000
TZOFFSETFROM:+0200
TZOFFSETTO:+0100
TZNAME:CET
END:STANDARD
END:VTIMEZONE
END:VCALENDAR