BEGIN:VCALENDAR
VERSION:2.0
PRODID:-//wp-events-plugin.com//6.4.8//EN
TZID:Europe/Berlin
X-WR-TIMEZONE:Europe/Berlin
BEGIN:VEVENT
UID:393@aachener-zauberschule.de
DTSTART;TZID=Europe/Berlin:20221127T140000
DTEND;TZID=Europe/Berlin:20221127T160000
DTSTAMP:20221122T120635Z
URL:https://aachener-zauberschule.de/events/schnupperkurs-4/
SUMMARY:Schnupperkurs
DESCRIPTION:Der Austausch unter&nbsp\;Gleichgesinnten&nbsp\;steht hier im V
 ordergrund.\nFür Kinder ab dem Grundschulalter ist der&nbsp\;SCHNUPPERKUR
 S&nbsp\;bestens geeignet\, um zu überprüfen\, ob&nbsp\;kleine&nbsp\;Bibi
  Blockbergs&nbsp\;oder&nbsp\;Harry Potter&nbsp\;in ihnen stecken.\n\nAuch 
 für&nbsp\;junge Zauberer\, ab der 5. Schulklasse\, mit oder ohne Erfahrun
 g\, sind die&nbsp\;SCHNUPPERKURSE&nbsp\;ein idealer Einstieg. So können s
 ie hier einen Ausblick auf den&nbsp\;Wochenend-Grundkurs&nbsp\;bekommen un
 d haben dann die Möglichkeit\, regelmäßig an unserem&nbsp\;Magic-Forum&
 nbsp\;teilnehmen zu können.\n\nZur Auflockerung beginnt der Unterrichts m
 eist mit den von den Kindern mitgebrachten Kunststücken\, die sie gerne d
 er Gruppe zeigen möchten.\n\nIm nächsten Schritt widmen wir uns dann ein
 em neuen Kunststück zu\, das wir gemeinsam mit den Kindern besprechen und
  über mögliche Präsentationsformen sprechen. Je nach Schwierigkeitsgrad
  können es auch mehrere Kunststücke sein\, die aufeinander aufbauen. Sch
 ritt für Schritt gehen wir mit den Zauberschüler/innen durch die Trickte
 chnik und die Finessen in der Präsentation.&nbsp\;\n\nAnschließend präs
 entieren die Kinder ihre Darbietung vor der Gruppe\, auf der Bühne\, mit 
 einem Vortrag oder Musik!\n\nDas nötige Material\, sowie Getränke\, werd
 en den Kindern zur freien Verfügung gestellt.\nVorkenntnisse sind nicht n
 ötig!
ATTACH;FMTTYPE=image/jpeg:https://aachener-zauberschule.de/wp-content/uplo
 ads/schnupperkurs.jpg
CATEGORIES:schnuppern
LOCATION:Marschiertor\, Franzstraße 119\, Aachen\, 52064\, Deutschland
GEO:50.768619;6.086964
X-APPLE-STRUCTURED-LOCATION;VALUE=URI;X-ADDRESS=Franzstraße 119\, Aachen\,
  52064\, Deutschland;X-APPLE-RADIUS=100;X-TITLE=Marschiertor:geo:50.768619
 ,6.086964
END:VEVENT
BEGIN:VTIMEZONE
TZID:Europe/Berlin
X-LIC-LOCATION:Europe/Berlin
BEGIN:STANDARD
DTSTART:20221030T020000
TZOFFSETFROM:+0200
TZOFFSETTO:+0100
TZNAME:CET
END:STANDARD
END:VTIMEZONE
END:VCALENDAR