BEGIN:VCALENDAR
VERSION:2.0
PRODID:-//wp-events-plugin.com//6.4.8//EN
TZID:Europe/Berlin
X-WR-TIMEZONE:Europe/Berlin
BEGIN:VEVENT
UID:408@aachener-zauberschule.de
DTSTART;TZID=Europe/Berlin:20230318T140000
DTEND;TZID=Europe/Berlin:20230318T153000
DTSTAMP:20230305T135658Z
URL:https://aachener-zauberschule.de/events/schnupperkurs-230318/
SUMMARY:Schnupperkurs (Würselen)
DESCRIPTION:Der Austausch unter&nbsp\;Gleichgesinnten&nbsp\;steht hier im V
 ordergrund.\nFür Kinder und Jugendliche ab dem Grundschulalter ist der SC
 HNUPPERKURS&nbsp\;bestens geeignet\, um zu überprüfen\, ob&nbsp\;kleine&
 nbsp\;Bibi Blockbergs&nbsp\;oder&nbsp\;Harry Potter in ihnen stecken\, ode
 r ob aus Jungen Menschen\, die bereits schon zaubern\, Mitglieder im Magis
 chen Zirkel von Deutschland entstehen können.\n\nWir starten meist mit al
 len zusammen und zeigen ein zwei Kunststücke\, dann stellen die Kinder Ih
 re eingeübten Kunststücke vor. Anschließend wird in kleinen Gruppen - n
 ach Alter oder Fertigkeit\, oder auch einfach nach Interessengebiet - geza
 ubert\, verfeinert\, erklärt und vorgeführt.\n\nWährend der 90 Minuten 
 gibt es individuelle Pausen und viele Gespräche zwischen den Teilnehmern.
 \nNach dem Schnupperkurs haben die Teilnehmer die Möglichkeit\, regelmä
 ßig an den Forum-Terminen teilnehmen zu können\, meist der 1. und 3. Sam
 stag im Monat in Würselen sowie der letzte Sonntag im Monat in Aachen im 
 Marschiertor.\n\nDas nötige Material\, sowie Getränke\, werden den Kinde
 rn zur freien Verfügung gestellt.\nVorkenntnisse sind nicht nötig!
CATEGORIES:schnuppern
LOCATION:Aachener Zauberschule in Würselen\, Neuhauser Str. 82\, Würselen
 \, 52146\, Deutschland
GEO:50.81876;6.127
X-APPLE-STRUCTURED-LOCATION;VALUE=URI;X-ADDRESS=Neuhauser Str. 82\, Würsel
 en\, 52146\, Deutschland;X-APPLE-RADIUS=100;X-TITLE=Aachener Zauberschule 
 in Würselen:geo:50.81876,6.127
END:VEVENT
BEGIN:VTIMEZONE
TZID:Europe/Berlin
X-LIC-LOCATION:Europe/Berlin
BEGIN:STANDARD
DTSTART:20221030T020000
TZOFFSETFROM:+0200
TZOFFSETTO:+0100
TZNAME:CET
END:STANDARD
END:VTIMEZONE
END:VCALENDAR