BEGIN:VCALENDAR
VERSION:2.0
PRODID:-//wp-events-plugin.com//6.4.8//EN
TZID:Europe/Berlin
X-WR-TIMEZONE:Europe/Berlin
BEGIN:VEVENT
UID:154@aachener-zauberschule.de
DTSTART;TZID=Europe/Berlin:20180930T103000
DTEND;TZID=Europe/Berlin:20180930T130000
DTSTAMP:20191208T112405Z
URL:https://aachener-zauberschule.de/events/magic-forum-monatlich-2018-09-
 30/
SUMMARY:MAGIC-FORUM (monatlich)
DESCRIPTION:Regelmäßig für Einsteiger und Fortgeschrittene\nDer Austausc
 h unter Gleichgesinnten steht hier im Vordergrund.\n\nFür Kinder ab dem
  Grundschulalter ist das MAGIC-FORUM bestens geeignet\, um zu überprüf
 en\, ob kleine Bibi Blockbergs oder Harry Potter in ihnen stecken. In
  monatlich stattfinden Zaubertreffen werden 3 neue Kunststücke vorgeführ
 t und erklärt.\n\nAnschließend wird das „Zaubern“ eingeübt und die
  Kinder präsentieren Ihre Darbietung in der Gruppe!\n\nFrau Andrea-Katja 
 Blondeau beschreibt in Ihrem Buch: Hokus\, Pokus\, Fidibus das man mit Z
 auberpädagogik:\n\n– die Sprechfreude unterstützen\,\n– das Selbstve
 rtrauen stärken\,\n– Konzentration und Handlungsplanung weiterentwickel
 n\,\n– die Persönlichkeitsbildung unterstützen\,\n– Kreativität fö
 rdern\,\n– Lampenfieber und Prüfungsangst abbauen\,\n– einen entspann
 ten Erstkontakt knüpfen\,\n– positiv im Mittelpunkt stehen\,\n– Sprac
 hfehler und Sprechhemmungen mildern\,\n– fremdsprachigen Kindern den Ein
 stieg erleichtern\,\n– Ängste und Lernblockaden überwinden\,\n– math
 ematische Fähigkeiten und Fertigkeiten erweitern\,\n– logische Abläufe
  üben\,\n– die Feinmotorik trainieren\,\n– Konflikte bearbeiten\,\n
 – negativ auffällige Kinder in ein günstigeres Licht rücken.\n\nkann.
  Diese Auffassung teilen und unterstützen wir!\n\nDas nötige Material\, 
 sowie Getränke\, werden den Kindern zur freien Verfügung gestellt.\nVork
 enntnisse sind nicht nötig!\n\n&nbsp\;\nMonatliche Teilnahme:\n\n        
  jeden letzten Sonntag im Monat von 10.30 – 13.00 Uhr\n         10.30 
 – 11.15: Wiederholung der Vorwoche\n         11.15 – 12.00: 2 neue Kun
 ststücke\n         12.00 – 12.15: Pause\n         12.15 – 13.00: 1 ne
 ues Kunststücke\n         Kosten  monatlich € 25\,-\n\n\nDer Kurs ver
 längert sich zahlungspflichtig immer um einen Monat\, wenn nicht spätest
 ens 14 Tage vor Beginn des neuen Monats gekündigt wird!
CATEGORIES:schnuppern
LOCATION:Würselen-Bardenberg\, Heidestr. 40\, Würselen\, NRW\, 52146\, Aa
 chen\, Deutschland
GEO:50.839781;6.111133
X-APPLE-STRUCTURED-LOCATION;VALUE=URI;X-ADDRESS=Heidestr. 40\, Würselen\, 
 NRW\, 52146\, Aachen\, Deutschland;X-APPLE-RADIUS=100;X-TITLE=Würselen-Ba
 rdenberg:geo:50.839781,6.111133
END:VEVENT
BEGIN:VTIMEZONE
TZID:Europe/Berlin
X-LIC-LOCATION:Europe/Berlin
BEGIN:DAYLIGHT
DTSTART:20180325T030000
TZOFFSETFROM:+0100
TZOFFSETTO:+0200
TZNAME:CEST
END:DAYLIGHT
END:VTIMEZONE
END:VCALENDAR