BEGIN:VCALENDAR
VERSION:2.0
PRODID:-//wp-events-plugin.com//6.4.8//EN
TZID:Europe/Berlin
X-WR-TIMEZONE:Europe/Berlin
BEGIN:VEVENT
UID:391@aachener-zauberschule.de
DTSTART;TZID=Europe/Berlin:20221211T140000
DTEND;TZID=Europe/Berlin:20221211T160000
DTSTAMP:20221019T075440Z
URL:https://aachener-zauberschule.de/events/magic-forum-5/
SUMMARY:Magic-Forum
DESCRIPTION:Regelmäßiger Austausch unter Zauberlehrlingen\n2 bis 3 mal Im
  Monat können die Kinder offen über Zaubertricks\, Effekte und Routinen 
 sprechen\, sich gegenseitig Tipps geben und neue Erfahrungen sammeln.\n\nZ
 ur Auflockerung beginnt der Unterrichts meist mit den von den Kindern mitg
 ebrachten Kunststücken\, die sie gerne der Gruppe zeigen möchten.\n\nAns
 chließend werden dann die Lerninhalte der letzten Treffen wiederholt. Die
 se Wiederholung dient dazu\, das Erlernte zu vertiefen\, offene Fragen zu 
 klären\, Schwierigkeiten in Tricktechnik\, Timing oder Präsentation zu b
 eseitigen\, eigene\, individuelle Präsentationsformen zu entwickeln und d
 as Selbstbewusstsein so zu stärken.\n\nDabei geht es auch darum\, vertief
 te Einblicke in die Vielfalt der Zauberkunst zu bekommen. Daher können di
 ese Präsentationen aus verschiedenen Bereichen der Magie kommen\, aus dem
  Close-up genauso wie aus der Mentalmagie\, aus der Salonmagie ebenso wie 
 aus der Bühnenkunst.\n\nIm nächsten Schritt widmen wir uns dann einem ne
 uen Kunststück zu\, das wir gemeinsam mit den Kindern besprechen und übe
 r mögliche Präsentationsformen sprechen. Je nach Schwierigkeitsgrad kön
 nen es auch mehrere Kunststücke sein\, die aufeinander aufbauen. Schritt 
 für Schritt gehen wir mit den Zauberschüler/innen durch die Tricktechnik
  und die Finessen in der Präsentation.&nbsp\;\n\nAnschließend präsentie
 ren die Kinder ihre Darbietung vor der Gruppe\, auf der Bühne\, mit einem
  Vortrag oder Musik!\nVoraussetzungen:\nBevor Ihr Kind bei uns Mitglied we
 rden kann\, muss es einen Schnupperkurs besucht haben - anschließend ents
 cheiden wir über die Aufnahme. Ein Wochenend-Grundkurs ist zu empfehlen\,
  aber nicht zwingend erforderlich.\nTermine:\nWir treffen uns immer am 2. 
 und 4. Sonntag im Monat in Würselen\, Neuhauser Str. 82. am letzten Sonnt
 ag im Monat treffen wir uns in einer wunderschönen geschützten Kulisse\,
  dem Hogwarts von Aachen (Marschiertor).\nSollte der letzte Sonntag im Mon
 at auf den 4. Sonntag im Monat fallen\, dann findet das Treffen in Aachen 
 und nicht in Würselen statt.\nKosten:\nDer Monatsbeitrag liegt bei € 50
 \,-\, egal ob ein\, zwei oder alle drei Termine wahrgenommen werden könne
 n. Dafür verfügen dann aber auch alle Mitglieder über die gleichen Mate
 rialien. Getränke und kleine Snacks sind inbegriffen.\n\n&nbsp\;\nGast (f
 ür Nicht-Mitglieder)\n\n         Teilnahmekosten:&nbsp\; € 80\,-\n     
     Bitte den Schnupperkurs buchen\n
ATTACH;FMTTYPE=image/jpeg:https://aachener-zauberschule.de/wp-content/uplo
 ads/201900303_kavi_91.jpg
CATEGORIES:Magic-Forum
LOCATION:Aachener Zauberschule in Würselen\, Neuhauser Str. 82\, Würselen
 \, 52146\, Deutschland
GEO:50.81876;6.127
X-APPLE-STRUCTURED-LOCATION;VALUE=URI;X-ADDRESS=Neuhauser Str. 82\, Würsel
 en\, 52146\, Deutschland;X-APPLE-RADIUS=100;X-TITLE=Aachener Zauberschule 
 in Würselen:geo:50.81876,6.127
END:VEVENT
BEGIN:VTIMEZONE
TZID:Europe/Berlin
X-LIC-LOCATION:Europe/Berlin
BEGIN:STANDARD
DTSTART:20221030T020000
TZOFFSETFROM:+0200
TZOFFSETTO:+0100
TZNAME:CET
END:STANDARD
END:VTIMEZONE
END:VCALENDAR