BEGIN:VCALENDAR
VERSION:2.0
PRODID:-//wp-events-plugin.com//6.4.8//EN
TZID:Europe/Berlin
X-WR-TIMEZONE:Europe/Berlin
BEGIN:VEVENT
UID:372@aachener-zauberschule.de
DTSTART;TZID=Europe/Berlin:20220213T140000
DTEND;TZID=Europe/Berlin:20220213T161500
DTSTAMP:20220106T110702Z
URL:https://aachener-zauberschule.de/events/gruppe-2-schnupperkurs-11/
SUMMARY:Gruppe 2: .Schnupperkurs
DESCRIPTION:Der Austausch unter&nbsp\;Gleichgesinnten&nbsp\;steht hier im V
 ordergrund.\nFür Kinder ab der 5. Schulklasse&nbsp\;ist der SCHNUPPERKURS
 &nbsp\;bestens geeignet\, um zu überprüfen\, ob&nbsp\;kleine&nbsp\;Bibi 
 Blockbergs&nbsp\;oder&nbsp\;Harry Potter in ihnen stecken.\n\nIn den erste
 n 45 Minuten wird Ihr Kind anderen „Zauberlehrlingen“ beim Zaubern zus
 chauen und assistieren dürfen um diese so kennen zulernen. Anschließend\
 , in den zweiten 45 Minuten\, werden 2 neue Zauberkunststücke gezeigt und
  erklärt.\n\nIn den letzten 45 Minuten zeigt jedes Kind ein Zauberkunstst
 ück auf der Bühne.\n\nDas nötige Material\, sowie Getränke\, werden de
 n Kindern zur freien Verfügung gestellt.\nVorkenntnisse sind nicht nötig
 !
ATTACH;FMTTYPE=image/jpeg:https://aachener-zauberschule.de/wp-content/uplo
 ads/schnupperkurs.jpg
CATEGORIES:schnuppern
LOCATION:Würselen-Bardenberg\, Heidestr. 40\, Würselen\, NRW\, 52146\, Aa
 chen\, Deutschland
GEO:50.839781;6.111133
X-APPLE-STRUCTURED-LOCATION;VALUE=URI;X-ADDRESS=Heidestr. 40\, Würselen\, 
 NRW\, 52146\, Aachen\, Deutschland;X-APPLE-RADIUS=100;X-TITLE=Würselen-Ba
 rdenberg:geo:50.839781,6.111133
END:VEVENT
BEGIN:VTIMEZONE
TZID:Europe/Berlin
X-LIC-LOCATION:Europe/Berlin
BEGIN:STANDARD
DTSTART:20211031T020000
TZOFFSETFROM:+0200
TZOFFSETTO:+0100
TZNAME:CET
END:STANDARD
END:VTIMEZONE
END:VCALENDAR