BEGIN:VCALENDAR
VERSION:2.0
PRODID:-//wp-events-plugin.com//6.4.8//EN
TZID:Europe/Berlin
X-WR-TIMEZONE:Europe/Berlin
BEGIN:VEVENT
UID:365@aachener-zauberschule.de
DTSTART;TZID=Europe/Berlin:20200426T123000
DTEND;TZID=Europe/Berlin:20200426T144500
DTSTAMP:20191226T124430Z
URL:https://aachener-zauberschule.de/events/gruppe-2-magic-forum-8/
SUMMARY:Gruppe 2: Magic-Forum
DESCRIPTION:Regelmäßiger Austausch unter Zauberlehrlingen\nIn einer wunde
 rschönen geschützten Kulisse\, dem Hogwarts von Aachen (Marschiertor)\, 
 können die Kinder offen über Zaubertricks\, Effekte und Routinen spreche
 n\, sich gegenseitig Tipps geben und neue Erfahrungen sammeln.\n\nZur Aufl
 ockerung beginnt der Unterrichts meist mit einem neuen Kunststück\, das b
 isher nicht bekannt ist. Dabei geht es ausschließlich darum\, vertiefte E
 inblicke in die Vielfalt der Zauberkunst zu bekommen. Daher können diese 
 Präsentationen aus verschiedenen Bereichen der Magie kommen\, aus dem Clo
 se-up genauso wie aus der Mentalmagie\, aus der Salonmagie ebenso wie aus 
 der Bühnenkunst.\n\nIn den 2x monatlich stattfindenden Zaubertreffen werd
 en dann die Lerninhalte der letzten Treffen wiederholt. Diese Wiederholung
  dient dazu\, das Erlernte zu vertiefen\, offene Fragen zu klären\, Schwi
 erigkeiten in Tricktechnik\, Timing oder Präsentation zu beseitigen\, eig
 ene\, individuelle Präsentationsformen zu entwickeln und das Selbstbewuss
 tsein so zu stärken.\n\nIm nächsten Schritt widmen wir uns dann einem ne
 uen Kunststücken\, das wir oder eines der Kinder vorführen und erklären
 . Je nach Schwierigkeitsgrad können es auch mehrere Kunststücke sein\, d
 ie aufeinander aufbauen. Schritt für Schritt gehen wir mit den Zaubersch
 üler/innen durch die Tricktechnik und die Finessen in der Präsentation.&
 nbsp\;\n\nAnschließend präsentieren die Kinder ihre Darbietung vor der G
 ruppe\, auf der Bühne\, mit einem Vortrag oder Musik!\nVoraussetzungen:\n
 Bevor Ihr Kind bei uns Mitglied werden kann\, muss es einen Schnupperkurs 
 besucht haben. Danach darf es maximal 2x als Gast (nach vorheriger Anmeldu
 ng) das Magic Forum besuchen.&nbsp\;\n\nProgrammablauf:\nGruppe 2&nbsp\;(F
 ür Zauberkinder\, ab der 5. Schulklasse):\n\n         12.30 – 13.15: Wi
 ederholung der Lerninhalte\, die Zauberlehrlinge zeigen Ihre Kunststücke.
 \n         13.15 – 14.00: Ein neues Kunststück wird erklärt und erlern
 t.\n         14.00 – 14.45: Richtige Präsentation auf der Bühne oder C
 lose Up vor der Gruppe.\n\nTeilnahmekosten als Gast (für Nicht-Mitglieder
 ):&nbsp\; € 25\,-
ATTACH;FMTTYPE=image/jpeg:https://aachener-zauberschule.de/wp-content/uplo
 ads/201900303_kavi_91.jpg
CATEGORIES:Magic-Forum
LOCATION:Marschiertor\, Franzstraße 119\, Aachen\, 52064\, Deutschland
GEO:50.768619;6.086964
X-APPLE-STRUCTURED-LOCATION;VALUE=URI;X-ADDRESS=Franzstraße 119\, Aachen\,
  52064\, Deutschland;X-APPLE-RADIUS=100;X-TITLE=Marschiertor:geo:50.768619
 ,6.086964
END:VEVENT
BEGIN:VTIMEZONE
TZID:Europe/Berlin
X-LIC-LOCATION:Europe/Berlin
BEGIN:DAYLIGHT
DTSTART:20200329T030000
TZOFFSETFROM:+0100
TZOFFSETTO:+0200
TZNAME:CEST
END:DAYLIGHT
END:VTIMEZONE
END:VCALENDAR