BEGIN:VCALENDAR
VERSION:2.0
PRODID:-//wp-events-plugin.com//6.4.8//EN
TZID:Europe/Berlin
X-WR-TIMEZONE:Europe/Berlin
BEGIN:VEVENT
UID:373@aachener-zauberschule.de
DTSTART;TZID=Europe/Berlin:20220213T140000
DTEND;TZID=Europe/Berlin:20220213T161500
DTSTAMP:20220106T111851Z
URL:https://aachener-zauberschule.de/events/gruppe-2-magic-forum-13/
SUMMARY:Gruppe 2: Magic-Forum • SVENGALI DECK
DESCRIPTION:Regelmäßiger Austausch unter Zauberlehrlingen\nIn einer wunde
 rschönen geschützten Kulisse\, dem Hogwarts von Aachen (Marschiertor)\, 
 alternativ in Würselen Bardenberg\, können die Kinder offen über Zauber
 tricks\, Effekte und Routinen sprechen\, sich gegenseitig Tipps geben und 
 neue Erfahrungen sammeln.\n\nZur Auflockerung beginnt der Unterrichts meis
 t mit einem neuen Kunststück\, das bisher nicht bekannt ist. Dabei geht e
 s ausschließlich darum\, vertiefte Einblicke in die Vielfalt der Zauberku
 nst zu bekommen. Daher können diese Präsentationen aus verschiedenen Ber
 eichen der Magie kommen\, aus dem Close-up genauso wie aus der Mentalmagie
 \, aus der Salonmagie ebenso wie aus der Bühnenkunst.\n\nIn den monatlich
  stattfindenden Zaubertreffen werden dann die Lerninhalte der letzten Tref
 fen wiederholt. Diese Wiederholung dient dazu\, das Erlernte zu vertiefen\
 , offene Fragen zu klären\, Schwierigkeiten in Tricktechnik\, Timing oder
  Präsentation zu beseitigen\, eigene\, individuelle Präsentationsformen 
 zu entwickeln und das Selbstbewusstsein so zu stärken.\n\nIm nächsten Sc
 hritt widmen wir uns dann einem neuen Kunststücken\, das wir oder eines d
 er Kinder vorführen und erklären. Je nach Schwierigkeitsgrad können es 
 auch mehrere Kunststücke sein\, die aufeinander aufbauen. Schritt für Sc
 hritt gehen wir mit den Zauberschüler/innen durch die Tricktechnik und di
 e Finessen in der Präsentation.&nbsp\;\n\nAnschließend präsentieren die
  Kinder ihre Darbietung vor der Gruppe\, auf der Bühne\, mit einem Vortra
 g oder Musik!\nVoraussetzungen:\nBevor Ihr Kind bei uns Mitglied werden ka
 nn\, muss es einen Schnupperkurs besucht haben. Danach darf es maximal 2x 
 als Gast (nach vorheriger Anmeldung) das Magic Forum besuchen.&nbsp\;\n\nP
 rogrammablauf:\nGruppe 2&nbsp\;(Für Zauberkinder\, ab der 5. Schulklasse)
 :\n\n         14.00 – 14.45: Wiederholung der Lerninhalte\, die Zauberle
 hrlinge zeigen Ihre Kunststücke.\n         14.45 – 15.30: Ein neues Kun
 ststück wird erklärt und erlernt.\n         15.30 – 16.15: Richtige Pr
 äsentation auf der Bühne oder Close Up vor der Gruppe.\n\n&nbsp\;\nGast 
 (für Nicht-Mitglieder)\n\n         Teilnahmekosten:&nbsp\; € 50\,-\n   
       Bitte den Schnupperkurs buchen\n
ATTACH;FMTTYPE=image/jpeg:https://aachener-zauberschule.de/wp-content/uplo
 ads/201900303_kavi_91.jpg
CATEGORIES:Magic-Forum
LOCATION:Würselen-Bardenberg\, Heidestr. 40\, Würselen\, NRW\, 52146\, Aa
 chen\, Deutschland
GEO:50.839781;6.111133
X-APPLE-STRUCTURED-LOCATION;VALUE=URI;X-ADDRESS=Heidestr. 40\, Würselen\, 
 NRW\, 52146\, Aachen\, Deutschland;X-APPLE-RADIUS=100;X-TITLE=Würselen-Ba
 rdenberg:geo:50.839781,6.111133
END:VEVENT
BEGIN:VTIMEZONE
TZID:Europe/Berlin
X-LIC-LOCATION:Europe/Berlin
BEGIN:STANDARD
DTSTART:20211031T020000
TZOFFSETFROM:+0200
TZOFFSETTO:+0100
TZNAME:CET
END:STANDARD
END:VTIMEZONE
END:VCALENDAR