BEGIN:VCALENDAR
VERSION:2.0
PRODID:-//wp-events-plugin.com//6.4.8//EN
TZID:Europe/Berlin
X-WR-TIMEZONE:Europe/Berlin
BEGIN:VEVENT
UID:469@aachener-zauberschule.de
DTSTART;TZID=Europe/Berlin:20231029T160000
DTEND;TZID=Europe/Berlin:20231029T190000
DTSTAMP:20231006T174630Z
URL:https://aachener-zauberschule.de/events/ballon-seminar-einsteiger/
SUMMARY:Ballon-Seminar Einsteiger
DESCRIPTION:Sie erhalten 100 bunt sortierte&nbsp\;Qualitätsballons Q260&nb
 sp\;und zusätzlich eine spezielle Luftpumpe zum Mitnehmen.\n\nWährend de
 s Seminars\, das in Gruppen bis zu max. 8 Teilnehmern stattfindet\, stehen
  Ihnen unsere Ballons selbstverständlich reichlich zur Verfügung.\n\n   
       Dauer:&nbsp\; 3 Stunden (inklusive Pausen)\n(16:00 – 19.00 Uhr)\n\
 n\n         Kosten: € 149\,-\n\nInklusive:&nbsp\; 100 Spezial-Ballons f
 ür zu Hause und spezieller Ballonpumpe\n\nKeine Voraussetzungen oder Vork
 enntnisse nötig!
CATEGORIES:Ballons
LOCATION:Aachener Zauberschule in Würselen\, Neuhauser Str. 82\, Würselen
 \, 52146\, Deutschland
GEO:50.81876;6.127
X-APPLE-STRUCTURED-LOCATION;VALUE=URI;X-ADDRESS=Neuhauser Str. 82\, Würsel
 en\, 52146\, Deutschland;X-APPLE-RADIUS=100;X-TITLE=Aachener Zauberschule 
 in Würselen:geo:50.81876,6.127
END:VEVENT
BEGIN:VTIMEZONE
TZID:Europe/Berlin
X-LIC-LOCATION:Europe/Berlin
BEGIN:STANDARD
DTSTART:20231029T020000
TZOFFSETFROM:+0200
TZOFFSETTO:+0100
TZNAME:CET
END:STANDARD
END:VTIMEZONE
END:VCALENDAR