BEGIN:VCALENDAR
VERSION:2.0
PRODID:-//wp-events-plugin.com//6.4.8//EN
TZID:Europe/Berlin
X-WR-TIMEZONE:Europe/Berlin
BEGIN:VEVENT
UID:370@aachener-zauberschule.de
DTSTART;TZID=Europe/Berlin:20200320T190000
DTEND;TZID=Europe/Berlin:20200320T220000
DTSTAMP:20200228T081744Z
URL:https://aachener-zauberschule.de/events/axel-hecklau-seminar-typisch-h
 ecklau/
SUMMARY:Axel Hecklau-Seminar „Typisch Hecklau“
DESCRIPTION:&gt\;&gt\;&gt\; ACHTUNG: EXTERNES SEMINARE IN MÖNCHENGLADBACH!
 !!\n\nNach 2004\, 2008 und 2013 wird Axel Hecklau zum 4. Mal auf große MZ
 vD Seminartour gehen.\n\nIn den vergangenen Jahren ist Axel Hecklau weit u
 ̈ber den deutschsprachigen Raum hinaus mit seine ausgefeilten Kunststüc
 k-Kreationen bekannt geworden. Er wurde in der Sparte Salon-Magie&nbsp\;De
 utscher Meister 2017\,&nbsp\;FISM Europameister 2017&nbsp\;und&nbsp\;Vize-
 Weltmeister 2018. Er ist in der aktuellen Staffel von Penn &amp\; Teller F
 ool Us zu sehen und tritt weiterhin (seit 15 Jahren) in seiner eigenen wo
 ̈chentlichen Show (www.salon-der-wunder.de) in Berlin auf.\n\nIn seinem S
 eminar zeigt er viele magische Life-Hacks (früher nannte man das Tipps) 
 und\nstarke Routinen aus seiner Vorführpraxis.\n\nWer denkt\, das Ringsp
 iel sei ein alter Hut\, kann sich vom Gegenteil überzeugen. Lassen Sie s
 ich überraschen\, wie ein Kunststück selbst nach 37 Jahren Vorführpr
 axis einen Quantensprung machen kann.\nBestandteil seines Seminars wird au
 ch der PRAK-Tisch sein\, ein logistisches Konzept vor\, während und nach
  dem Auftritt – eben ein typischer Hecklau.\n\nEinlass:\nAb 18 Uhr.\n\nA
 lle Infos entnehmen Sie bitte der&nbsp\;PDF-Einladung
ATTACH;FMTTYPE=image/jpeg:https://aachener-zauberschule.de/wp-content/uplo
 ads/Axel-Hecklau.png
CATEGORIES:Externe Seminare
LOCATION:Kath. Pfarrheim St.Vitus\, Abteistr. 34\, Mönchengladbach\, NRW\,
  41061\, Deutschland
GEO:51.193024;6.432066
X-APPLE-STRUCTURED-LOCATION;VALUE=URI;X-ADDRESS=Abteistr. 34\, Mönchenglad
 bach\, NRW\, 41061\, Deutschland;X-APPLE-RADIUS=100;X-TITLE=Kath. Pfarrhei
 m St.Vitus:geo:51.193024,6.432066
END:VEVENT
BEGIN:VTIMEZONE
TZID:Europe/Berlin
X-LIC-LOCATION:Europe/Berlin
BEGIN:STANDARD
DTSTART:20191027T020000
TZOFFSETFROM:+0200
TZOFFSETTO:+0100
TZNAME:CET
END:STANDARD
END:VTIMEZONE
END:VCALENDAR