BEGIN:VCALENDAR
VERSION:2.0
PRODID:-//wp-events-plugin.com//6.4.8//EN
TZID:Europe/Berlin
X-WR-TIMEZONE:Europe/Berlin
BEGIN:VEVENT
UID:470@aachener-zauberschule.de
DTSTART;TZID=Europe/Berlin:20240414T130000
DTEND;TZID=Europe/Berlin:20240414T160000
DTSTAMP:20231030T083000Z
URL:https://aachener-zauberschule.de/events/aufnahmepruefung-des-mzvd-in-a
 achen/
SUMMARY:Aufnahmeprüfung des MZvD in Aachen
DESCRIPTION:Details folgen ...\n\nInteressierte wenden sich direkt an Fredd
 y\, 015781778876\, gerne per WA \;-)
LOCATION:Marschiertor\, Franzstraße 119\, Aachen\, 52064\, Deutschland
GEO:50.768619;6.086964
X-APPLE-STRUCTURED-LOCATION;VALUE=URI;X-ADDRESS=Franzstraße 119\, Aachen\,
  52064\, Deutschland;X-APPLE-RADIUS=100;X-TITLE=Marschiertor:geo:50.768619
 ,6.086964
END:VEVENT
BEGIN:VTIMEZONE
TZID:Europe/Berlin
X-LIC-LOCATION:Europe/Berlin
BEGIN:DAYLIGHT
DTSTART:20240331T030000
TZOFFSETFROM:+0100
TZOFFSETTO:+0200
TZNAME:CEST
END:DAYLIGHT
END:VTIMEZONE
END:VCALENDAR