BEGIN:VCALENDAR
VERSION:2.0
PRODID:-//wp-events-plugin.com//6.4.8//EN
TZID:Europe/Berlin
X-WR-TIMEZONE:Europe/Berlin
BEGIN:VEVENT
UID:371@aachener-zauberschule.de
DTSTART;TZID=Europe/Berlin:20211024T140000
DTEND;TZID=Europe/Berlin:20211024T153000
DTSTAMP:20211017T145426Z
URL:https://aachener-zauberschule.de/events/1-treffen-nach-corona/
SUMMARY:1. Treffen nach Corona
DESCRIPTION:Wir laden alle Interessierten unverbindlich und kostenfrei ein.
  Zwecks der Planungen bitte vorher hier anmelden.
LOCATION:Aachener Zauberschule in Würselen\, Neuhauser Str. 82\, Würselen
 \, 52146\, Deutschland
GEO:50.81876;6.127
X-APPLE-STRUCTURED-LOCATION;VALUE=URI;X-ADDRESS=Neuhauser Str. 82\, Würsel
 en\, 52146\, Deutschland;X-APPLE-RADIUS=100;X-TITLE=Aachener Zauberschule 
 in Würselen:geo:50.81876,6.127
END:VEVENT
BEGIN:VTIMEZONE
TZID:Europe/Berlin
X-LIC-LOCATION:Europe/Berlin
BEGIN:DAYLIGHT
DTSTART:20210328T030000
TZOFFSETFROM:+0100
TZOFFSETTO:+0200
TZNAME:CEST
END:DAYLIGHT
END:VTIMEZONE
END:VCALENDAR